BEGIN:VCALENDAR
VERSION:2.0
PRODID:-//KIXOTT - ECPv6.15.20//NONSGML v1.0//EN
CALSCALE:GREGORIAN
METHOD:PUBLISH
X-ORIGINAL-URL:https://kixott.com
X-WR-CALDESC:Events for KIXOTT
REFRESH-INTERVAL;VALUE=DURATION:PT1H
X-Robots-Tag:noindex
X-PUBLISHED-TTL:PT1H
BEGIN:VTIMEZONE
TZID:Europe/Paris
BEGIN:DAYLIGHT
TZOFFSETFROM:+0100
TZOFFSETTO:+0200
TZNAME:CEST
DTSTART:20220327T010000
END:DAYLIGHT
BEGIN:STANDARD
TZOFFSETFROM:+0200
TZOFFSETTO:+0100
TZNAME:CET
DTSTART:20221030T010000
END:STANDARD
BEGIN:DAYLIGHT
TZOFFSETFROM:+0100
TZOFFSETTO:+0200
TZNAME:CEST
DTSTART:20230326T010000
END:DAYLIGHT
BEGIN:STANDARD
TZOFFSETFROM:+0200
TZOFFSETTO:+0100
TZNAME:CET
DTSTART:20231029T010000
END:STANDARD
BEGIN:DAYLIGHT
TZOFFSETFROM:+0100
TZOFFSETTO:+0200
TZNAME:CEST
DTSTART:20240331T010000
END:DAYLIGHT
BEGIN:STANDARD
TZOFFSETFROM:+0200
TZOFFSETTO:+0100
TZNAME:CET
DTSTART:20241027T010000
END:STANDARD
END:VTIMEZONE
BEGIN:VEVENT
DTSTART;TZID=Europe/Paris:20230830T200000
DTEND;TZID=Europe/Paris:20230830T220000
DTSTAMP:20260419T151849
CREATED:20230817T232104Z
LAST-MODIFIED:20230826T184529Z
UID:3952-1693425600-1693432800@kixott.com
SUMMARY:Kixott Movie Nights: Chungking Express
DESCRIPTION:🎬 Chungking Express\n📆 Wednesday 30 August • 20:00\n🍿 Free seating – \nEmbark on a mesmerizing adventure through the bustling streets of Hong Kong in Chungking Express. Grab your favourite drink to sip before diving into this whirlwind of quirky romance and serendipitous encounters. Get ready for a cinematic journey that will leave you craving both love and refreshment. 🍸 \n\n\n\n\n\n\nFacebook event page
URL:https://kixott.com/event/kixott-movie-nights-soylent-green/
LOCATION:Kixott\, 169 Triq Il-Kbira •\, • Mosta\, Malta
CATEGORIES:Cinema
ATTACH;FMTTYPE=image/jpeg:https://kixott.com/wp-content/uploads/2023/08/chungking_express__movie_poster2__by_seblakes31_dep34tb-fullview.jpg
END:VEVENT
END:VCALENDAR