BEGIN:VCALENDAR
VERSION:2.0
PRODID:-//KIXOTT - ECPv6.15.20//NONSGML v1.0//EN
CALSCALE:GREGORIAN
METHOD:PUBLISH
X-ORIGINAL-URL:https://kixott.com
X-WR-CALDESC:Events for KIXOTT
REFRESH-INTERVAL;VALUE=DURATION:PT1H
X-Robots-Tag:noindex
X-PUBLISHED-TTL:PT1H
BEGIN:VTIMEZONE
TZID:Europe/Paris
BEGIN:DAYLIGHT
TZOFFSETFROM:+0100
TZOFFSETTO:+0200
TZNAME:CEST
DTSTART:20210328T010000
END:DAYLIGHT
BEGIN:STANDARD
TZOFFSETFROM:+0200
TZOFFSETTO:+0100
TZNAME:CET
DTSTART:20211031T010000
END:STANDARD
BEGIN:DAYLIGHT
TZOFFSETFROM:+0100
TZOFFSETTO:+0200
TZNAME:CEST
DTSTART:20220327T010000
END:DAYLIGHT
BEGIN:STANDARD
TZOFFSETFROM:+0200
TZOFFSETTO:+0100
TZNAME:CET
DTSTART:20221030T010000
END:STANDARD
BEGIN:DAYLIGHT
TZOFFSETFROM:+0100
TZOFFSETTO:+0200
TZNAME:CEST
DTSTART:20230326T010000
END:DAYLIGHT
BEGIN:STANDARD
TZOFFSETFROM:+0200
TZOFFSETTO:+0100
TZNAME:CET
DTSTART:20231029T010000
END:STANDARD
END:VTIMEZONE
BEGIN:VEVENT
DTSTART;TZID=Europe/Paris:20221207T200000
DTEND;TZID=Europe/Paris:20221207T220000
DTSTAMP:20260425T210945
CREATED:20221206T102103Z
LAST-MODIFIED:20221206T102103Z
UID:3692-1670443200-1670450400@kixott.com
SUMMARY:Kixott Movie Nights: The General (on FILM!)
DESCRIPTION:Courtesy of its very own in-house film collector — and all-round gent — Malcolm Demicoli\, Kixott is proud to present a bona fide classic of the silent era… on FILM\, as the gods (once) intended!\nBuster Keaton’s 1926 silent action-adventure-comedy The General is considered by many to be a shining jewel of the genre\, overcoming its initially frosty reception to become a critical darling\, hailed as a comic masterpiece\, and among the most beautifully executed examples of the form.\nSo grab a drink and take a trip through time with this propulsive\, locomotive jolt of vintage cinema!\n\n\n\n\n\nFacebook event page \n 
URL:https://kixott.com/event/kixott-movie-nights-the-general-on-film/
LOCATION:Kixott\, 169 Triq Il-Kbira •\, • Mosta\, Malta
CATEGORIES:Cinema
ATTACH;FMTTYPE=image/jpeg:https://kixott.com/wp-content/uploads/2022/12/317731286_511546441015875_3408066949694577822_n.jpg
END:VEVENT
BEGIN:VEVENT
DTSTART;TZID=Europe/Paris:20221130T200000
DTEND;TZID=Europe/Paris:20221130T220000
DTSTAMP:20260425T210945
CREATED:20221128T120811Z
LAST-MODIFIED:20221128T120811Z
UID:3684-1669838400-1669845600@kixott.com
SUMMARY:Kixott Movie Nights: Barbarella (1968)
DESCRIPTION:The world is in a mess and all of our superheroes have been snatched up by CIA-loving\, copaganda-enabling global corporations.\nWhat are we to do?\nOne option would be: turn to Barbarella!\nAfter all\, while a gratuitous zero-gravity striptease performed by the legendary Jane Fonda may not halt the nuclear apocalypse or imminent ecological collapse\, neither did it ever do anyone any harm.\nFollowing our screening of the Wachowski’s red-hot queer noir debut Bound\, we will continue to shameless ride the wave of high-level horniness back in time but forward into space\, regaling you with another Dino De Laurentiis cult classic – Roger Vadim’s beloved adaptation of Jean Claude Forest’s comic book series\, first released in 1968 and unsurpassed since (though many have tried).\nGrab a drink (or three) and get ready to forget to take anything seriously over a couple of hours. Barbarella is on a serious mission\, but she is not here to judge.\n\n\n\n\n\n\n\n* DOORS OPEN AT 19:30\, FILM STARTS AT 20:00 *\n\n\nFacebook event page \n 
URL:https://kixott.com/event/kixott-movie-nights-barbarella-1968/
LOCATION:Kixott\, 169 Triq Il-Kbira •\, • Mosta\, Malta
CATEGORIES:Cinema
ATTACH;FMTTYPE=image/jpeg:https://kixott.com/wp-content/uploads/2022/11/316063890_504994691671050_6619285963897885686_n.jpg
END:VEVENT
BEGIN:VEVENT
DTSTART;TZID=Europe/Paris:20221123T200000
DTEND;TZID=Europe/Paris:20221123T220000
DTSTAMP:20260425T210945
CREATED:20221122T121318Z
LAST-MODIFIED:20221128T121346Z
UID:3688-1669233600-1669240800@kixott.com
SUMMARY:Kixott Movie Nights: Bound
DESCRIPTION:Before the Wachowski siblings made The Matrix\, they straight up gave the world an immersive and convincing queer neo-noir thriller which we thought was impossibly cooked up by two straight men (only for that assumption to be blown to smithereens).\nTotal legends Jennifer Tilly and Gina Gershon slip snugly and sexily into familiar crime thriller roles and take us on a ride that offers all the traditional\, sleazy & steamy\, pleasures of the genre but with an added crucial twist.\nIf there ever was a film to benefit from being shown at the coolest cocktail bar in town\, this is it. And Kixott is\, of course that bar… and always will be
URL:https://kixott.com/event/kixott-movie-nights-bound/
LOCATION:Kixott\, 169 Triq Il-Kbira •\, • Mosta\, Malta
CATEGORIES:Cinema
ATTACH;FMTTYPE=image/jpeg:https://kixott.com/wp-content/uploads/2022/11/315306660_498708502299669_102559543307120838_n-2-e1669637572513.jpg
END:VEVENT
BEGIN:VEVENT
DTSTART;TZID=Europe/Paris:20221109T193000
DTEND;TZID=Europe/Paris:20221109T220000
DTSTAMP:20260425T210945
CREATED:20221105T150301Z
LAST-MODIFIED:20221105T150410Z
UID:3677-1668022200-1668031200@kixott.com
SUMMARY:Kixott Movie Nights: Clouds of Sils Maria
DESCRIPTION:Back when Kristen Stewart was still Twilight girl\, French auteur Olivier Assayas snatched her up and made her a de facto muse\, a collaboration that started with the beautiful\, elliptical meditation on art and ageing — 2014’s Clouds of Sils Maria — and which continues to this day (see: Stewart’s cameo in Irma Vep 2022).\nBut beyond the cinephilic factoids – which this film in particular richly invites\, it must be said – we’re showing you this little gem at Kixott as autumn slowly approaches – encroaching slowly upon us like its titular meteorological phenomenon.\n\n\n\n\n\n\n*** DOORS OPEN AT 19:00; FILM STARTS AT 19:30 ***\n\n\nFacebook event page \n 
URL:https://kixott.com/event/kixott-movie-nights-clouds-of-sils-maria/
LOCATION:Kixott\, 169 Triq Il-Kbira •\, • Mosta\, Malta
CATEGORIES:Cinema
ATTACH;FMTTYPE=image/jpeg:https://kixott.com/wp-content/uploads/2022/11/cc.jpg
END:VEVENT
BEGIN:VEVENT
DTSTART;TZID=Europe/Paris:20221019T193000
DTEND;TZID=Europe/Paris:20221019T213000
DTSTAMP:20260425T210945
CREATED:20221016T083737Z
LAST-MODIFIED:20221016T085424Z
UID:3656-1666207800-1666215000@kixott.com
SUMMARY:Kixoween Movie Nights: Freaky
DESCRIPTION:We’ve taken you back in time to when horror first hit the screen\, before making a glorious pit-stop at the decadent ’80s with The Hunger. Now\, we’re showcasing the best at what Gen-Z horror has to offer with a bloodthirsty but hilarious (and oddly heartwarming) mashup whose original working title says it all: ‘Freaky Friday the 13th’.\nWhere director Christopher Landon’s previous horror comedy mashed the slasher genre with Groundhog Day\, this one offers a cheeky dark twist on the body swap genre\, as Vince Vaugh’s slasher villain trades flesh-prisons with Kathryn Newton’s put-upon teenager.\nThis one’s a pure thrill ride that magically balances out disparate elements in a sleek package of fun — both gore and laughs click into place perfectly to guarantee a hoot of a time.\nSo grab a drink and get ready to enjoy some of the wackiest fun the season has to offer!\n\n\n\n\n\n*** DOORS OPEN AT 19:00; FILM STARTS AT 19:30 SHARP ***\n\n\nFacebook event page \n 
URL:https://kixott.com/event/kixoween-movie-nights-the-hunger/
LOCATION:Kixott\, 169 Triq Il-Kbira •\, • Mosta\, Malta
CATEGORIES:Cinema
ATTACH;FMTTYPE=image/jpeg:https://kixott.com/wp-content/uploads/2022/10/freaky.jpg
END:VEVENT
BEGIN:VEVENT
DTSTART;TZID=Europe/Paris:20221012T193000
DTEND;TZID=Europe/Paris:20221012T213000
DTSTAMP:20260425T210945
CREATED:20221016T085816Z
LAST-MODIFIED:20221016T085816Z
UID:3673-1665603000-1665610200@kixott.com
SUMMARY:Kixoween Movie Nights: The Hunger
DESCRIPTION:Before he changed the world of blockbusters as we know it with Top Gun\, Tony Scott made his blisteringly stylish and unashamedly sensual debut with this vampire love-triangle fantasia that wears its gothic bonafides firmly on its rigidly shoulder-padded sleeve.\n(I mean\, Bauhaus themselves appear in the opening scene\, with Peter Murphy bellowing out Bela Lugosi’s Dead straight at the audience)\nCatherine Deneuve and David Bowie channel the sexiest possible version of the\, “My girlfriend and I saw you from across the bar and were really digging your vibe. Can we buy you a drink?” lifestyle as they inveigle the fatally curious scientist Sarah (Susan Sarandon) into their thrall.\nYes\, it’s totally style over substance. But by the gods… what style!\nSo pick a drink\, head on upstairs and submit to the gorgeously rendered guilty pleasures that are about to unspool before you.\n\n\n\n  \n 
URL:https://kixott.com/event/kixoween-movie-nights-the-hunger-2/
LOCATION:Kixott\, 169 Triq Il-Kbira •\, • Mosta\, Malta
CATEGORIES:Cinema
ATTACH;FMTTYPE=image/jpeg:https://kixott.com/wp-content/uploads/2022/10/310115850_465867142250472_1048410519717327004_n.jpg
END:VEVENT
BEGIN:VEVENT
DTSTART;TZID=Europe/Paris:20221005T203000
DTEND;TZID=Europe/Paris:20221005T223000
DTSTAMP:20260425T210945
CREATED:20221005T072238Z
LAST-MODIFIED:20221005T072238Z
UID:3652-1665001800-1665009000@kixott.com
SUMMARY:Kixoween Movie Nights: The Cabinet of Dr Caligari
DESCRIPTION:Nothing like a German Expressionist masterwork to kick off the spooky season… and on film\, no less!\nKixott is proud (and super\, super happy) to present The Cabinet of Dr. Caligari\, on glorious film reels as god (once) intended\, courtesy of our own in-house silent film collector Malcolm Demicoli.\nCome experience what Roger Ebert called “the first true horror film”\, as Robert Weine’s 1920 classic silent feature takes you down a dark psychic corrior that has gone on to influence the likes of David Bowie\, Tim Burton and many\, many others.\nBUT THAT’S NOT ALL! Ahead of the main event\, Malcolm will also be regaling us with two short — and equally chilling — film from the silent era: Hunchback of Notre Dame (1923\, dir. Wallace Worsley; 8 mins) and Dr. Jekyll and Mr. Hyde (1920\, dir. John S. Robertson; 8 mins).\nSo snuggle up with your favourite Kixott cocktail for a haunted house ride that has well and truly stood the test of time!\n(And keep your eyes peeled for similarly scary film screenings at Kixott in the coming weeks)\nFacebook event page \n 
URL:https://kixott.com/event/kixoween-movie-nights-the-cabinet-of-dr-caligari/
LOCATION:Kixott\, 169 Triq Il-Kbira •\, • Mosta\, Malta
CATEGORIES:Cinema
ATTACH;FMTTYPE=image/jpeg:https://kixott.com/wp-content/uploads/2022/10/310037082_461803965990123_4727129620907226384_n.jpg
END:VEVENT
BEGIN:VEVENT
DTSTART;TZID=Europe/Paris:20220921T210000
DTEND;TZID=Europe/Paris:20220921T223000
DTSTAMP:20260425T210945
CREATED:20220917T114521Z
LAST-MODIFIED:20220917T114756Z
UID:3646-1663794000-1663799400@kixott.com
SUMMARY:Kixott Movie Nights: Bande à part
DESCRIPTION:It’s only apt.\nNot that the late\, great cinematic iconoclast Jean-Luc Godard ever made much of meal of propriety\, mind.\nBut given the recent passing of the shining beacon of the Frencn New Wave\, we only thought it appropriate to regale you with a screening of one of his most joyous and beloved features.\nHave our barmen fix you only your very favourite drink and walk on upstairs\, so you may toast the Master in true style — which was the only way to be for him.\n\n\n\n\nFacebook event page
URL:https://kixott.com/event/kixott-movie-nights-bande-a-part/
LOCATION:Kixott\, 169 Triq Il-Kbira •\, • Mosta\, Malta
CATEGORIES:Cinema
ATTACH;FMTTYPE=image/jpeg:https://kixott.com/wp-content/uploads/2022/09/s306517589_450552637115256_1367828119934943443_n.jpg
END:VEVENT
BEGIN:VEVENT
DTSTART;TZID=Europe/Paris:20220907T200000
DTEND;TZID=Europe/Paris:20220907T220000
DTSTAMP:20260425T210945
CREATED:20220905T092456Z
LAST-MODIFIED:20220905T100120Z
UID:3629-1662580800-1662588000@kixott.com
SUMMARY:Vintage Shorts (Extended Edition) – Ecstasy (1933)
DESCRIPTION:Come witness the very first non-pornographic move to show sexual intercourse and the female orgasm\, on sexy old-fashioned film reels too!\nDirected by Gustav Machatý and starring the legendary Hedy Lamarr\, Ecstasy tells the torrid tale of Eva\, who leaves a loveless marriage to pursue a love affair with a virile young engineer.\nEcstasy will be presented on glorious film reels as god (once) intended\, courtesy of Kixott’s own in-house silent film collector Malcolm Demicoli. Coming in at 120 minutes\, it’ll be the longest one in this ongoing bi-weekly series.\nSo grab a drink\, sit back and enjoy this steamy spectacle from times of yore! \nFacebook event page
URL:https://kixott.com/event/vintage-shorts-03-ecstasy-1933/
LOCATION:Kixott\, 169 Triq Il-Kbira •\, • Mosta\, Malta
CATEGORIES:Cinema
ATTACH;FMTTYPE=image/jpeg:https://kixott.com/wp-content/uploads/2022/09/image-w1280.jpg
END:VEVENT
BEGIN:VEVENT
DTSTART;TZID=Europe/Paris:20220901T193000
DTEND;TZID=Europe/Paris:20220901T213000
DTSTAMP:20260425T210945
CREATED:20220827T123610Z
LAST-MODIFIED:20220827T123610Z
UID:3622-1662060600-1662067800@kixott.com
SUMMARY:Film screening: Gaza Surf Club
DESCRIPTION:For our upcoming film screening\, we will be showing Gaza Surf Club.\nThe documentary follows the lives of several surfers from Gaza and it looks into how they navigate their lives and hobbies around and through the highly restricted social\, legal and political situation they find themselves in. While at first glance this documentary on surfing might seem to be just that\, it quickly becomes an investigation into how meaningful connections and freedoms may be kept alive under highly adverse conditions.\nIn addition to the film\, one of our exec members will be speaking about her ethnographic fieldwork which explores surfing in Malta\, as well as some comments and insights into the film above.\nEvent will take place at Kixott\, Mosta.\nDon’t forget to DM us to secure your spot!\n\n\n\n\nFacebook event page
URL:https://kixott.com/event/film-screening-gaza-surf-club/
LOCATION:Kixott\, 169 Triq Il-Kbira •\, • Mosta\, Malta
CATEGORIES:Cinema
ATTACH;FMTTYPE=image/jpeg:https://kixott.com/wp-content/uploads/2022/08/294790569_176973341404617_7309215683100673052_n.jpg
END:VEVENT
BEGIN:VEVENT
DTSTART;TZID=Europe/Paris:20220831T203000
DTEND;TZID=Europe/Paris:20220831T233000
DTSTAMP:20260425T210945
CREATED:20220827T122640Z
LAST-MODIFIED:20220827T122911Z
UID:3619-1661977800-1661988600@kixott.com
SUMMARY:Kixott Movie Nights: Her Smell
DESCRIPTION:We all know Elisabeth Moss can nail compelling\, morally ambiguous characters like few others in the business\, and Alex Ross Perry’s ‘Her Smell’ allows her to feast and flaunt her abilities with squeamishly compelling delight.\nA whirlwind trip of self-destruction and (maybe) redemption\, it charts the peaks and troughs of punk rock musician Becky Something\, and the trail of agony and ecstasy that follows her wherever she goes.\nCome join us for a flick that most certainly won’t judge you for glugging a drink (or ten) as you experience its dizzying\, darkly funny ride.\n\n\n\nFacebook event page
URL:https://kixott.com/event/kixott-movie-nights-her-smell/
LOCATION:Kixott\, 169 Triq Il-Kbira •\, • Mosta\, Malta
CATEGORIES:Cinema
ATTACH;FMTTYPE=image/jpeg:https://kixott.com/wp-content/uploads/2022/08/kmn.jpg
END:VEVENT
BEGIN:VEVENT
DTSTART;TZID=Europe/Paris:20220824T200000
DTEND;TZID=Europe/Paris:20220824T220000
DTSTAMP:20260425T210945
CREATED:20220816T074108Z
LAST-MODIFIED:20220822T135844Z
UID:3604-1661371200-1661378400@kixott.com
SUMMARY:Vintage Shorts #02
DESCRIPTION:As an old-school style INTERMISSION spliced between our bi-weekly movie nights\, Kixott invites silent era film collector Malcolm Demicoli to regale you with classics and oddities from yore – all projected on film reels as god (once) intended. \nOur second screening presents eclectic selection that is bound to amuse and inspire: \n👉 Sloppy Jalopey – Mr. Magoo (200 ft that is aprox 8 minutes)\n👉 Two Tars – Laurel & Hardey (was released 3rd November 1928) 1 x 400ft reel\, 18 mins approx.\n👉 A Dog’s Life starring Charles Chaplin (was released in 14th April 1918) 1 x 400ft reel.\n👉 Man Handled starring Gloria Swanson (was released on 4th August 1924 – 98 years and 10 days ago) 2 x 400ft reels\, 40 mins approx. \nGrab a drink and take the stairs up to the time warp! \nFacebook event page
URL:https://kixott.com/event/vintage-shorts-02/
LOCATION:Kixott\, 169 Triq Il-Kbira •\, • Mosta\, Malta
CATEGORIES:Cinema
ATTACH;FMTTYPE=image/jpeg:https://kixott.com/wp-content/uploads/2022/08/manhandled-slide-2.jpg
END:VEVENT
BEGIN:VEVENT
DTSTART;TZID=Europe/Paris:20220817T203000
DTEND;TZID=Europe/Paris:20220817T230000
DTSTAMP:20260425T210945
CREATED:20220816T100309Z
LAST-MODIFIED:20220816T100309Z
UID:3608-1660768200-1660777200@kixott.com
SUMMARY:Kixott Movie Nights: Out of Sight
DESCRIPTION:George Clooney. Jennifer Lopez. Steven Sodenbergh. Elmore Leonard.\n\nA cooler tonic for the summer swelter you’ll scarcely find.\n\nThe chemistry between the leads sizzles in this delightful and smartly funny story of a robber and a marshal who fall for each other.\n\nCome join us for a welcome revisit of this smooth & sexy heist-and-kidnapping caper\, delivered up at the unexpectedly high quality crest in the wave of late-90s Hollywood.\n\n\nFacebook event page
URL:https://kixott.com/event/kixott-movie-nights-out-of-sight/
LOCATION:Kixott\, 169 Triq Il-Kbira •\, • Mosta\, Malta
CATEGORIES:Cinema
ATTACH;FMTTYPE=image/jpeg:https://kixott.com/wp-content/uploads/2022/08/299781872_429074629263057_492550483180402713_n.jpg
END:VEVENT
BEGIN:VEVENT
DTSTART;TZID=Europe/Paris:20220803T203000
DTEND;TZID=Europe/Paris:20220803T230000
DTSTAMP:20260425T210945
CREATED:20220801T063416Z
LAST-MODIFIED:20220801T063636Z
UID:3592-1659558600-1659567600@kixott.com
SUMMARY:Kixott Movie Nights: The Graduate
DESCRIPTION:“Mrs Robinson\, you’re trying to seduce me!”\n\nJust ahead of a short summer break for the Kixott crew\, we present a vintage seasonal viewing of a coming-of-age classic.\n\nMike Nichols’ The Graduate (1967) has since become a staple romantic drama: a taboo busting exploration of rebellious youth and its oddly subversive older counterpart\, personified in the iconic Mrs Robinson lusting after a young Dustin Hoffman.\n\nBoth timeless and undeniably of its time\, The Graduate still retains its ability to shock and amuse in equal measure.\nCertainly one to take in at leisure with a funky drink in hand — so come on up!\n\n\nFacebook event page
URL:https://kixott.com/event/kixott-movie-nights-the-graduate/
LOCATION:Kixott\, 169 Triq Il-Kbira •\, • Mosta\, Malta
CATEGORIES:Cinema
ATTACH;FMTTYPE=image/jpeg:https://kixott.com/wp-content/uploads/2022/08/tg.jpg
END:VEVENT
BEGIN:VEVENT
DTSTART;TZID=Europe/Paris:20220727T200000
DTEND;TZID=Europe/Paris:20220727T220000
DTSTAMP:20260425T210945
CREATED:20220721T210253Z
LAST-MODIFIED:20220721T210253Z
UID:3588-1658952000-1658959200@kixott.com
SUMMARY:Vintage Shorts
DESCRIPTION:As an old-school style INTERMISSION spliced between our bi-weekly movie nights\, Kixott invites silent era film collector Malcolm Demicoli to regale you with classics and oddities from yore – all projected on film reels as god (once) intended. \nWe’ll be kicking it all off with an eclectic selection that is bound to amuse and inspire: \nThe Dog Snatcher (Mr Magoo Cartoons 1952 / 200 ft reel / 12-14 minutes)\nEarly Days of Motoring (from the 1900s on / 250 ft reel / 16-19 minutes)\nEasy Street by Charles Chaplin (released in 1917 / 1 x 400 ft reel / 26-29 minutes) \nGrab a drink and take the stairs up to the time warp! \nFacebook event page
URL:https://kixott.com/event/vintage-shorts/
LOCATION:Kixott\, 169 Triq Il-Kbira •\, • Mosta\, Malta
CATEGORIES:Cinema
ATTACH;FMTTYPE=image/jpeg:https://kixott.com/wp-content/uploads/2022/07/maxresdefault.jpg
END:VEVENT
BEGIN:VEVENT
DTSTART;TZID=Europe/Paris:20220706T203000
DTEND;TZID=Europe/Paris:20220706T223000
DTSTAMP:20260425T210945
CREATED:20220704T082528Z
LAST-MODIFIED:20220704T082618Z
UID:3571-1657139400-1657146600@kixott.com
SUMMARY:Kixott Movie Nights: Sexy Beast
DESCRIPTION:“Oh\, yeah. Bloody hell. I’m sweating in here. Roasting. Boiling. Baking. Sweltering. It’s like a sauna. Furnace. You can fry an egg on my stomach. Ohh\, who wouldn’t lap this up? It’s ridiculous. Tremendous. Fantastic. Fan-dabby-dozy-tastic.”\n\nSound familiar? FEEL familiar? The heat will do strange things to us all\, and former gangster Gal (Ray Winstone) is no exception. But thankfully\, most of us will not have to endure a surprise visit from memorably psychotic mob recruiter Don Logan (Ben Kingsley) forcing us into the classic ‘one last job’ that plucks us out of what passes for an idyllic retirement in Spain.\n\nThe debut feature film of idiosyncractic talent Jonathan Glazer (Under the Skin\, Birth\, countless cult music videos)\, Sexy Beast is a British crime film shot sunny side up and angled on ‘crazy’ — anchored by a blistering performance from Ben Kingsley that will have you screwed tight to your seat.
URL:https://kixott.com/event/kixott-movie-nights-sexy-beast/
LOCATION:Kixott\, 169 Triq Il-Kbira •\, • Mosta\, Malta
CATEGORIES:Cinema
ATTACH;FMTTYPE=image/jpeg:https://kixott.com/wp-content/uploads/2022/07/289977941_741288820550083_1667877213869437248_n.jpg
END:VEVENT
BEGIN:VEVENT
DTSTART;TZID=Europe/Paris:20220608T200000
DTEND;TZID=Europe/Paris:20220608T220000
DTSTAMP:20260425T210945
CREATED:20220526T131740Z
LAST-MODIFIED:20220530T144326Z
UID:3534-1654718400-1654725600@kixott.com
SUMMARY:Kixott Movie Nights: Angel-A
DESCRIPTION:  \n \n\n\nA beautiful and mysterious woman helps an inept scam artist get his game together… but is their meeting purely coincidence?\nYou know French auteur Luc Besson for his slick Euro-blockbusters like Leon: The Professional\, The Fifth Element and Lucy. But now’s your chance to catch him in a more reflective mood\, with a life-affirming riff on Wings of Desire/It’s a Wonderful Life that sacrifices none of his trademark cool.\n\nFeaturing Jamel Debbouze and Rie Rasmussen. \nFacebook event page\n\n  \n  \n\n 
URL:https://kixott.com/event/kixott-movie-nights-angel-a/
LOCATION:Kixott\, 169 Triq Il-Kbira •\, • Mosta\, Malta
CATEGORIES:Cinema
ATTACH;FMTTYPE=image/jpeg:https://kixott.com/wp-content/uploads/2022/05/angel-a-luc-besson.jpg
END:VEVENT
BEGIN:VEVENT
DTSTART;TZID=Europe/Paris:20220525T210000
DTEND;TZID=Europe/Paris:20220525T230000
DTSTAMP:20260425T210945
CREATED:20220519T121523Z
LAST-MODIFIED:20220519T121523Z
UID:3531-1653512400-1653519600@kixott.com
SUMMARY:Kixott Movie Nights: The Company of Wolves
DESCRIPTION:Who’s afraid of the (metaphoric) Big Bad Wolf?\n \nFor the next edition of the Kixott Movie Nights\, we present a cult classic with a deep bite.\n \nThe Company of Wolves (1984) adapts Angela Carter’s short story of the same name – itself in turn a feminist retelling of Little Red Riding Hood\, taken from that seminal collection of them\, ‘The Bloody Chamber’. Before this kind of stuff was melted into the mainstream pot and forged into the likes of Disney’s ‘Frozen’\, it was a sharp tonic of cheeky subversion\, and it’s very much on display in its undiluted form here.\n \nCo-written with Carter and its director Neil Jordan (who would go on to make Interview with the Vampire) and starring the likes of Stephen Rea\, David Warner and Angela Lansbury (Murder\, She Wrote)\, The Company of Wolves is a playful and ornate gothic fairytale – by turns dark and gorgeous\, disturbing and playful.\n \nCome indulge in this heady oddity over at Kixott!\n\n  \n  \n\n 
URL:https://kixott.com/event/kixott-movie-nights-the-company-of-wolves/
LOCATION:Kixott\, 169 Triq Il-Kbira •\, • Mosta\, Malta
CATEGORIES:Cinema
ATTACH;FMTTYPE=image/jpeg:https://kixott.com/wp-content/uploads/2022/05/280712909_713173490028283_187477711821935376_n-e1652962490999.jpg
END:VEVENT
BEGIN:VEVENT
DTSTART;TZID=Europe/Paris:20220513T200000
DTEND;TZID=Europe/Paris:20220513T220000
DTSTAMP:20260425T210945
CREATED:20220511T101707Z
LAST-MODIFIED:20220511T154357Z
UID:3527-1652472000-1652479200@kixott.com
SUMMARY:Kixott Movie Nights: The Big Lebowski
DESCRIPTION:Life may be a complicated case\, with lots of ins and outs. But Kixott will always be at the ready with a strict liquid regimen to keep your mind limber. And now\, it will add an audiovisual component to that mix with the Kixott Film Nights – starting this Friday with the Coen Brothers’ cult classic film noir parody The Big Lebowski!\n \nSit back and let the highly quotable slice of delectable absurdity wash over you\, all the while nursing your favourite Kixott-prepared beverage. Apropos of the occasion\, DUDE’s will be discounted to 5.00 EUR (5.90 EUR)… so you can sip along at the White Russians all night\, without worrying about being forcibly bundled into a millionaire’s limousine for an impromptu interrogation.\n \nRemember\, the bums will always lose\, so resist joining their number and hop on over this Friday!\n  \n  \n\n 
URL:https://kixott.com/event/kixott-movie-nights-the-big-lebowski/
LOCATION:Kixott\, 169 Triq Il-Kbira •\, • Mosta\, Malta
CATEGORIES:Cinema
ATTACH;FMTTYPE=image/jpeg:https://kixott.com/wp-content/uploads/2022/05/280370441_709209370424695_4108055885494951395_n.jpg
END:VEVENT
END:VCALENDAR